BEGIN:VCALENDAR
VERSION:2.0
PRODID:-//Caïssa Gladsaxe 2000 - ECPv6.2.5//NONSGML v1.0//EN
CALSCALE:GREGORIAN
METHOD:PUBLISH
X-ORIGINAL-URL:https://elo2000.dk
X-WR-CALDESC:Begivenheder for Caïssa Gladsaxe 2000
REFRESH-INTERVAL;VALUE=DURATION:PT1H
X-Robots-Tag:noindex
X-PUBLISHED-TTL:PT1H
BEGIN:VTIMEZONE
TZID:Europe/Paris
BEGIN:DAYLIGHT
TZOFFSETFROM:+0100
TZOFFSETTO:+0200
TZNAME:CEST
DTSTART:20240331T010000
END:DAYLIGHT
BEGIN:STANDARD
TZOFFSETFROM:+0200
TZOFFSETTO:+0100
TZNAME:CET
DTSTART:20241027T010000
END:STANDARD
END:VTIMEZONE
BEGIN:VEVENT
DTSTART;TZID=Europe/Paris:20240207T190000
DTEND;TZID=Europe/Paris:20240207T190000
DTSTAMP:20260422T065211
CREATED:20231101T193551Z
LAST-MODIFIED:20231101T193551Z
UID:3987-1707332400-1707332400@elo2000.dk
SUMMARY:Klubturnering R5
DESCRIPTION:
URL:https://elo2000.dk/event/klubturnering-r5-2/
END:VEVENT
BEGIN:VEVENT
DTSTART;TZID=Europe/Paris:20240214T190000
DTEND;TZID=Europe/Paris:20240214T190000
DTSTAMP:20260422T065211
CREATED:20231101T193551Z
LAST-MODIFIED:20231101T193551Z
UID:3988-1707937200-1707937200@elo2000.dk
SUMMARY:GM Træning 3
DESCRIPTION:
URL:https://elo2000.dk/event/gm-traening-3-3/
END:VEVENT
BEGIN:VEVENT
DTSTART;TZID=Europe/Paris:20240221T190000
DTEND;TZID=Europe/Paris:20240221T190000
DTSTAMP:20260422T065211
CREATED:20231101T193653Z
LAST-MODIFIED:20231101T193653Z
UID:3989-1708542000-1708542000@elo2000.dk
SUMMARY:Klubturnering R6
DESCRIPTION:
URL:https://elo2000.dk/event/klubturnering-r6-2/
END:VEVENT
BEGIN:VEVENT
DTSTART;TZID=Europe/Paris:20240228T190000
DTEND;TZID=Europe/Paris:20240228T190000
DTSTAMP:20260422T065211
CREATED:20231101T193653Z
LAST-MODIFIED:20231101T193653Z
UID:3990-1709146800-1709146800@elo2000.dk
SUMMARY:Klubturnering Udsatte og lyn
DESCRIPTION:
URL:https://elo2000.dk/event/klubturnering-udsatte-og-lyn-3/
END:VEVENT
END:VCALENDAR