BEGIN:VCALENDAR
VERSION:2.0
PRODID:-//Caïssa Gladsaxe 2000 - ECPv6.2.5//NONSGML v1.0//EN
CALSCALE:GREGORIAN
METHOD:PUBLISH
X-WR-CALNAME:Caïssa Gladsaxe 2000
X-ORIGINAL-URL:https://elo2000.dk
X-WR-CALDESC:Begivenheder for Caïssa Gladsaxe 2000
REFRESH-INTERVAL;VALUE=DURATION:PT1H
X-Robots-Tag:noindex
X-PUBLISHED-TTL:PT1H
BEGIN:VTIMEZONE
TZID:Europe/Paris
BEGIN:DAYLIGHT
TZOFFSETFROM:+0100
TZOFFSETTO:+0200
TZNAME:CEST
DTSTART:20240331T010000
END:DAYLIGHT
BEGIN:STANDARD
TZOFFSETFROM:+0200
TZOFFSETTO:+0100
TZNAME:CET
DTSTART:20241027T010000
END:STANDARD
END:VTIMEZONE
BEGIN:VEVENT
DTSTART;TZID=Europe/Paris:20240103T190000
DTEND;TZID=Europe/Paris:20240103T190000
DTSTAMP:20260422T080450
CREATED:20231101T193536Z
LAST-MODIFIED:20231101T193536Z
UID:3980-1704308400-1704308400@elo2000.dk
SUMMARY:Lynmesterskabet
DESCRIPTION:
URL:https://elo2000.dk/event/lynmesterskabet-5/
END:VEVENT
BEGIN:VEVENT
DTSTART;TZID=Europe/Paris:20240110T190000
DTEND;TZID=Europe/Paris:20240110T190000
DTSTAMP:20260422T080450
CREATED:20231101T193537Z
LAST-MODIFIED:20231101T193537Z
UID:3981-1704913200-1704913200@elo2000.dk
SUMMARY:Præsentation 1
DESCRIPTION:
URL:https://elo2000.dk/event/praesentation-1/
END:VEVENT
BEGIN:VEVENT
DTSTART;TZID=Europe/Paris:20240114T120000
DTEND;TZID=Europe/Paris:20240114T120000
DTSTAMP:20260422T080450
CREATED:20231101T193537Z
LAST-MODIFIED:20231101T193537Z
UID:3982-1705233600-1705233600@elo2000.dk
SUMMARY:Holdkamp R5
DESCRIPTION:
URL:https://elo2000.dk/event/holdkamp-r5/
END:VEVENT
BEGIN:VEVENT
DTSTART;TZID=Europe/Paris:20240117T190000
DTEND;TZID=Europe/Paris:20240117T190000
DTSTAMP:20260422T080450
CREATED:20231101T193537Z
LAST-MODIFIED:20231101T193537Z
UID:3983-1705518000-1705518000@elo2000.dk
SUMMARY:Parti gennemgang R5
DESCRIPTION:
URL:https://elo2000.dk/event/parti-gennemgang-r5/
END:VEVENT
BEGIN:VEVENT
DTSTART;TZID=Europe/Paris:20240124T190000
DTEND;TZID=Europe/Paris:20240124T190000
DTSTAMP:20260422T080450
CREATED:20231101T193550Z
LAST-MODIFIED:20231101T193550Z
UID:3984-1706122800-1706122800@elo2000.dk
SUMMARY:Hurtigskak hygge turnering
DESCRIPTION:
URL:https://elo2000.dk/event/hurtigskak-hygge-turnering-3/
END:VEVENT
BEGIN:VEVENT
DTSTART;TZID=Europe/Paris:20240128T120000
DTEND;TZID=Europe/Paris:20240128T120000
DTSTAMP:20260422T080450
CREATED:20231101T193550Z
LAST-MODIFIED:20231101T193550Z
UID:3985-1706443200-1706443200@elo2000.dk
SUMMARY:Holdkamp R6
DESCRIPTION:
URL:https://elo2000.dk/event/holdkamp-r6/
END:VEVENT
BEGIN:VEVENT
DTSTART;TZID=Europe/Paris:20240131T190000
DTEND;TZID=Europe/Paris:20240131T190000
DTSTAMP:20260422T080450
CREATED:20231101T193551Z
LAST-MODIFIED:20231101T193551Z
UID:3986-1706727600-1706727600@elo2000.dk
SUMMARY:Parti gennemgang R6
DESCRIPTION:
URL:https://elo2000.dk/event/parti-gennemgang-r6/
END:VEVENT
END:VCALENDAR