BEGIN:VCALENDAR
VERSION:2.0
PRODID:-//Caïssa Gladsaxe 2000 - ECPv6.2.5//NONSGML v1.0//EN
CALSCALE:GREGORIAN
METHOD:PUBLISH
X-ORIGINAL-URL:https://elo2000.dk
X-WR-CALDESC:Begivenheder for Caïssa Gladsaxe 2000
REFRESH-INTERVAL;VALUE=DURATION:PT1H
X-Robots-Tag:noindex
X-PUBLISHED-TTL:PT1H
BEGIN:VTIMEZONE
TZID:Europe/Paris
BEGIN:DAYLIGHT
TZOFFSETFROM:+0100
TZOFFSETTO:+0200
TZNAME:CEST
DTSTART:20230326T010000
END:DAYLIGHT
BEGIN:STANDARD
TZOFFSETFROM:+0200
TZOFFSETTO:+0100
TZNAME:CET
DTSTART:20231029T010000
END:STANDARD
END:VTIMEZONE
BEGIN:VEVENT
DTSTART;TZID=Europe/Paris:20231101T190000
DTEND;TZID=Europe/Paris:20231101T190000
DTSTAMP:20260422T110258
CREATED:20231101T193320Z
LAST-MODIFIED:20231101T193320Z
UID:3968-1698865200-1698865200@elo2000.dk
SUMMARY:Parti gennemgang R1
DESCRIPTION:
URL:https://elo2000.dk/event/parti-gennemgang-r1/
END:VEVENT
BEGIN:VEVENT
DTSTART;TZID=Europe/Paris:20231108T190000
DTEND;TZID=Europe/Paris:20231108T190000
DTSTAMP:20260422T110258
CREATED:20231101T193429Z
LAST-MODIFIED:20231101T193429Z
UID:3969-1699470000-1699470000@elo2000.dk
SUMMARY:Hyggelyn
DESCRIPTION:
URL:https://elo2000.dk/event/hyggelyn-2/
END:VEVENT
BEGIN:VEVENT
DTSTART;TZID=Europe/Paris:20231112T120000
DTEND;TZID=Europe/Paris:20231112T120000
DTSTAMP:20260422T110258
CREATED:20231101T193429Z
LAST-MODIFIED:20231101T193429Z
UID:3970-1699790400-1699790400@elo2000.dk
SUMMARY:Holdkamp R2
DESCRIPTION:
URL:https://elo2000.dk/event/holdkamp-r2/
END:VEVENT
BEGIN:VEVENT
DTSTART;TZID=Europe/Paris:20231115T190000
DTEND;TZID=Europe/Paris:20231115T190000
DTSTAMP:20260422T110258
CREATED:20231101T193429Z
LAST-MODIFIED:20231101T193429Z
UID:3971-1700074800-1700074800@elo2000.dk
SUMMARY:Parti gennemgang R2
DESCRIPTION:
URL:https://elo2000.dk/event/parti-gennemgang-r2/
END:VEVENT
BEGIN:VEVENT
DTSTART;TZID=Europe/Paris:20231122T190000
DTEND;TZID=Europe/Paris:20231122T190000
DTSTAMP:20260422T110258
CREATED:20231101T193430Z
LAST-MODIFIED:20231101T193430Z
UID:3972-1700679600-1700679600@elo2000.dk
SUMMARY:Gm træning  2
DESCRIPTION:
URL:https://elo2000.dk/event/gm-traening-2-2/
END:VEVENT
BEGIN:VEVENT
DTSTART;TZID=Europe/Paris:20231126T120000
DTEND;TZID=Europe/Paris:20231126T120000
DTSTAMP:20260422T110258
CREATED:20231101T193430Z
LAST-MODIFIED:20231101T193430Z
UID:3973-1701000000-1701000000@elo2000.dk
SUMMARY:Holdkamp R3
DESCRIPTION:
URL:https://elo2000.dk/event/holdkamp-r3/
END:VEVENT
BEGIN:VEVENT
DTSTART;TZID=Europe/Paris:20231129T190000
DTEND;TZID=Europe/Paris:20231129T190000
DTSTAMP:20260422T110258
CREATED:20231101T193444Z
LAST-MODIFIED:20231101T193444Z
UID:3974-1701284400-1701284400@elo2000.dk
SUMMARY:Parti gennemgang R3
DESCRIPTION:
URL:https://elo2000.dk/event/parti-gennemgang-r3/
END:VEVENT
END:VCALENDAR