BEGIN:VCALENDAR
VERSION:2.0
PRODID:-//Caïssa Gladsaxe 2000 - ECPv6.2.5//NONSGML v1.0//EN
CALSCALE:GREGORIAN
METHOD:PUBLISH
X-WR-CALNAME:Caïssa Gladsaxe 2000
X-ORIGINAL-URL:https://elo2000.dk
X-WR-CALDESC:Begivenheder for Caïssa Gladsaxe 2000
REFRESH-INTERVAL;VALUE=DURATION:PT1H
X-Robots-Tag:noindex
X-PUBLISHED-TTL:PT1H
BEGIN:VTIMEZONE
TZID:Europe/Paris
BEGIN:DAYLIGHT
TZOFFSETFROM:+0100
TZOFFSETTO:+0200
TZNAME:CEST
DTSTART:20230326T010000
END:DAYLIGHT
BEGIN:STANDARD
TZOFFSETFROM:+0200
TZOFFSETTO:+0100
TZNAME:CET
DTSTART:20231029T010000
END:STANDARD
END:VTIMEZONE
BEGIN:VEVENT
DTSTART;TZID=Europe/Paris:20231004T190000
DTEND;TZID=Europe/Paris:20231004T190000
DTSTAMP:20260422T122150
CREATED:20231101T193304Z
LAST-MODIFIED:20231101T193304Z
UID:3963-1696446000-1696446000@elo2000.dk
SUMMARY:GM træning  1
DESCRIPTION:
URL:https://elo2000.dk/event/gm-traening-1/
END:VEVENT
BEGIN:VEVENT
DTSTART;TZID=Europe/Paris:20231011T190000
DTEND;TZID=Europe/Paris:20231011T190000
DTSTAMP:20260422T122150
CREATED:20231101T193319Z
LAST-MODIFIED:20231101T193319Z
UID:3964-1697050800-1697050800@elo2000.dk
SUMMARY:Klubturnering R4
DESCRIPTION:
URL:https://elo2000.dk/event/klubturnering-r4-2/
END:VEVENT
BEGIN:VEVENT
DTSTART;TZID=Europe/Paris:20231018T190000
DTEND;TZID=Europe/Paris:20231018T190000
DTSTAMP:20260422T122150
CREATED:20231101T193319Z
LAST-MODIFIED:20231101T193319Z
UID:3965-1697655600-1697655600@elo2000.dk
SUMMARY:Klubturnering Udsatte og lyn
DESCRIPTION:
URL:https://elo2000.dk/event/klubturnering-udsatte-og-lyn-2/
END:VEVENT
BEGIN:VEVENT
DTSTART;TZID=Europe/Paris:20231025T190000
DTEND;TZID=Europe/Paris:20231025T190000
DTSTAMP:20260422T122150
CREATED:20231101T193320Z
LAST-MODIFIED:20231101T193320Z
UID:3966-1698260400-1698260400@elo2000.dk
SUMMARY:Hurtigskak Hygge turnering
DESCRIPTION:
URL:https://elo2000.dk/event/hurtigskak-hygge-turnering-2/
END:VEVENT
BEGIN:VEVENT
DTSTART;TZID=Europe/Paris:20231029T120000
DTEND;TZID=Europe/Paris:20231029T120000
DTSTAMP:20260422T122150
CREATED:20231101T193320Z
LAST-MODIFIED:20231101T193320Z
UID:3967-1698580800-1698580800@elo2000.dk
SUMMARY:Holdkamp R1
DESCRIPTION:
URL:https://elo2000.dk/event/holdkamp-r1/
END:VEVENT
END:VCALENDAR