BEGIN:VCALENDAR
VERSION:2.0
PRODID:-//Caïssa Gladsaxe 2000 - ECPv6.2.5//NONSGML v1.0//EN
CALSCALE:GREGORIAN
METHOD:PUBLISH
X-WR-CALNAME:Caïssa Gladsaxe 2000
X-ORIGINAL-URL:https://elo2000.dk
X-WR-CALDESC:Begivenheder for Caïssa Gladsaxe 2000
REFRESH-INTERVAL;VALUE=DURATION:PT1H
X-Robots-Tag:noindex
X-PUBLISHED-TTL:PT1H
BEGIN:VTIMEZONE
TZID:Europe/Paris
BEGIN:DAYLIGHT
TZOFFSETFROM:+0100
TZOFFSETTO:+0200
TZNAME:CEST
DTSTART:20230326T010000
END:DAYLIGHT
BEGIN:STANDARD
TZOFFSETFROM:+0200
TZOFFSETTO:+0100
TZNAME:CET
DTSTART:20231029T010000
END:STANDARD
END:VTIMEZONE
BEGIN:VEVENT
DTSTART;TZID=Europe/Paris:20230906T190000
DTEND;TZID=Europe/Paris:20230906T190000
DTSTAMP:20260422T140708
CREATED:20231101T193303Z
LAST-MODIFIED:20231101T193303Z
UID:3959-1694026800-1694026800@elo2000.dk
SUMMARY:Klubturnering R2
DESCRIPTION:
URL:https://elo2000.dk/event/klubturnering-r2-2/
END:VEVENT
BEGIN:VEVENT
DTSTART;TZID=Europe/Paris:20230913T190000
DTEND;TZID=Europe/Paris:20230913T190000
DTSTAMP:20260422T140708
CREATED:20231101T193303Z
LAST-MODIFIED:20231101T193303Z
UID:3960-1694631600-1694631600@elo2000.dk
SUMMARY:Klubturnering Udsatte og lyn
DESCRIPTION:
URL:https://elo2000.dk/event/klubturnering-udsatte-og-lyn/
END:VEVENT
BEGIN:VEVENT
DTSTART;TZID=Europe/Paris:20230920T190000
DTEND;TZID=Europe/Paris:20230920T190000
DTSTAMP:20260422T140708
CREATED:20231101T193303Z
LAST-MODIFIED:20231101T193303Z
UID:3961-1695236400-1695236400@elo2000.dk
SUMMARY:Hurtigskak Hygge turnering
DESCRIPTION:
URL:https://elo2000.dk/event/hurtigskak-hygge-turnering/
END:VEVENT
BEGIN:VEVENT
DTSTART;TZID=Europe/Paris:20230927T190000
DTEND;TZID=Europe/Paris:20230927T190000
DTSTAMP:20260422T140708
CREATED:20231101T193304Z
LAST-MODIFIED:20231101T193304Z
UID:3962-1695841200-1695841200@elo2000.dk
SUMMARY:Klubturnering R3
DESCRIPTION:
URL:https://elo2000.dk/event/klubturnering-r3-2/
END:VEVENT
END:VCALENDAR