BEGIN:VCALENDAR
VERSION:2.0
PRODID:-//Caïssa Gladsaxe 2000 - ECPv6.2.5//NONSGML v1.0//EN
CALSCALE:GREGORIAN
METHOD:PUBLISH
X-WR-CALNAME:Caïssa Gladsaxe 2000
X-ORIGINAL-URL:https://elo2000.dk
X-WR-CALDESC:Begivenheder for Caïssa Gladsaxe 2000
REFRESH-INTERVAL;VALUE=DURATION:PT1H
X-Robots-Tag:noindex
X-PUBLISHED-TTL:PT1H
BEGIN:VTIMEZONE
TZID:Europe/Paris
BEGIN:DAYLIGHT
TZOFFSETFROM:+0100
TZOFFSETTO:+0200
TZNAME:CEST
DTSTART:20230326T010000
END:DAYLIGHT
BEGIN:STANDARD
TZOFFSETFROM:+0200
TZOFFSETTO:+0100
TZNAME:CET
DTSTART:20231029T010000
END:STANDARD
END:VTIMEZONE
BEGIN:VEVENT
DTSTART;TZID=Europe/Paris:20230802T190000
DTEND;TZID=Europe/Paris:20230802T190000
DTSTAMP:20260422T153951
CREATED:20231101T193300Z
LAST-MODIFIED:20231101T193300Z
UID:3954-1691002800-1691002800@elo2000.dk
SUMMARY:Opstart Møde
DESCRIPTION:
URL:https://elo2000.dk/event/opstart-moede/
END:VEVENT
BEGIN:VEVENT
DTSTART;TZID=Europe/Paris:20230809T190000
DTEND;TZID=Europe/Paris:20230809T190000
DTSTAMP:20260422T153951
CREATED:20231101T193301Z
LAST-MODIFIED:20231101T193301Z
UID:3955-1691607600-1691607600@elo2000.dk
SUMMARY:Hyggelyn
DESCRIPTION:
URL:https://elo2000.dk/event/hyggelyn/
END:VEVENT
BEGIN:VEVENT
DTSTART;TZID=Europe/Paris:20230816T190000
DTEND;TZID=Europe/Paris:20230816T190000
DTSTAMP:20260422T153951
CREATED:20231101T193301Z
LAST-MODIFIED:20231101T193301Z
UID:3956-1692212400-1692212400@elo2000.dk
SUMMARY:Kort møde & hyggelyn
DESCRIPTION:
URL:https://elo2000.dk/event/kort-moede-hyggelyn/
END:VEVENT
BEGIN:VEVENT
DTSTART;TZID=Europe/Paris:20230823T190000
DTEND;TZID=Europe/Paris:20230823T190000
DTSTAMP:20260422T153951
CREATED:20231101T193302Z
LAST-MODIFIED:20231101T193302Z
UID:3957-1692817200-1692817200@elo2000.dk
SUMMARY:Klubturnering R1
DESCRIPTION:
URL:https://elo2000.dk/event/klubturnering-r1-2/
END:VEVENT
BEGIN:VEVENT
DTSTART;TZID=Europe/Paris:20230830T190000
DTEND;TZID=Europe/Paris:20230830T190000
DTSTAMP:20260422T153951
CREATED:20231101T193302Z
LAST-MODIFIED:20231101T193302Z
UID:3958-1693422000-1693422000@elo2000.dk
SUMMARY:Præsentation
DESCRIPTION:
URL:https://elo2000.dk/event/praesentation/
END:VEVENT
END:VCALENDAR