BEGIN:VCALENDAR
VERSION:2.0
PRODID:-//Caïssa Gladsaxe 2000 - ECPv6.2.5//NONSGML v1.0//EN
CALSCALE:GREGORIAN
METHOD:PUBLISH
X-ORIGINAL-URL:https://elo2000.dk
X-WR-CALDESC:Begivenheder for Caïssa Gladsaxe 2000
REFRESH-INTERVAL;VALUE=DURATION:PT1H
X-Robots-Tag:noindex
X-PUBLISHED-TTL:PT1H
BEGIN:VTIMEZONE
TZID:Europe/Paris
BEGIN:DAYLIGHT
TZOFFSETFROM:+0100
TZOFFSETTO:+0200
TZNAME:CEST
DTSTART:20230326T010000
END:DAYLIGHT
BEGIN:STANDARD
TZOFFSETFROM:+0200
TZOFFSETTO:+0100
TZNAME:CET
DTSTART:20231029T010000
END:STANDARD
END:VTIMEZONE
BEGIN:VEVENT
DTSTART;TZID=Europe/Paris:20230405T190000
DTEND;TZID=Europe/Paris:20230405T190000
DTSTAMP:20260422T212857
CREATED:20220728T195641Z
LAST-MODIFIED:20220730T071533Z
UID:3775-1680721200-1680721200@elo2000.dk
SUMMARY:Stormestertræning III
DESCRIPTION:
URL:https://elo2000.dk/event/stormestertraening-iii-2/
END:VEVENT
BEGIN:VEVENT
DTSTART;TZID=Europe/Paris:20230412T190000
DTEND;TZID=Europe/Paris:20230412T190000
DTSTAMP:20260422T212857
CREATED:20220728T195641Z
LAST-MODIFIED:20221211T212900Z
UID:3776-1681326000-1681326000@elo2000.dk
SUMMARY:8. Runde i Klubturneringen
DESCRIPTION:
URL:https://elo2000.dk/event/9-runde-i-klubturneringen-2/
END:VEVENT
BEGIN:VEVENT
DTSTART;TZID=Europe/Paris:20230419T190000
DTEND;TZID=Europe/Paris:20230419T190000
DTSTAMP:20260422T212857
CREATED:20220728T195642Z
LAST-MODIFIED:20220730T071533Z
UID:3777-1681930800-1681930800@elo2000.dk
SUMMARY:Det sorte repertoire (1…d5)
DESCRIPTION:
URL:https://elo2000.dk/event/det-sorte-repertoire-1d5-2/
END:VEVENT
BEGIN:VEVENT
DTSTART;TZID=Europe/Paris:20230426T190000
DTEND;TZID=Europe/Paris:20230426T190000
DTSTAMP:20260422T212857
CREATED:20220728T195642Z
LAST-MODIFIED:20220730T071533Z
UID:3778-1682535600-1682535600@elo2000.dk
SUMMARY:Det sorte repertoire (1…e5)
DESCRIPTION:
URL:https://elo2000.dk/event/det-sorte-repertoire-1e5-2/
END:VEVENT
END:VCALENDAR