BEGIN:VCALENDAR
VERSION:2.0
PRODID:-//Caïssa Gladsaxe 2000 - ECPv6.2.5//NONSGML v1.0//EN
CALSCALE:GREGORIAN
METHOD:PUBLISH
X-ORIGINAL-URL:https://elo2000.dk
X-WR-CALDESC:Begivenheder for Caïssa Gladsaxe 2000
REFRESH-INTERVAL;VALUE=DURATION:PT1H
X-Robots-Tag:noindex
X-PUBLISHED-TTL:PT1H
BEGIN:VTIMEZONE
TZID:Europe/Paris
BEGIN:DAYLIGHT
TZOFFSETFROM:+0100
TZOFFSETTO:+0200
TZNAME:CEST
DTSTART:20220327T010000
END:DAYLIGHT
BEGIN:STANDARD
TZOFFSETFROM:+0200
TZOFFSETTO:+0100
TZNAME:CET
DTSTART:20221030T010000
END:STANDARD
END:VTIMEZONE
BEGIN:VEVENT
DTSTART;TZID=Europe/Paris:20221204T120000
DTEND;TZID=Europe/Paris:20221204T120000
DTSTAMP:20260423T034252
CREATED:20220728T195346Z
LAST-MODIFIED:20220730T071503Z
UID:3745-1670155200-1670155200@elo2000.dk
SUMMARY:3. Runde i Divisionsturneringen
DESCRIPTION:
URL:https://elo2000.dk/event/3-runde-i-divisionsturneringen-2/
END:VEVENT
BEGIN:VEVENT
DTSTART;TZID=Europe/Paris:20221207T190000
DTEND;TZID=Europe/Paris:20221207T190000
DTSTAMP:20260423T034252
CREATED:20220728T195347Z
LAST-MODIFIED:20220730T071503Z
UID:3746-1670439600-1670439600@elo2000.dk
SUMMARY:Venskabsmatch
DESCRIPTION:
URL:https://elo2000.dk/event/venskabsmatch-2/
END:VEVENT
BEGIN:VEVENT
DTSTART;TZID=Europe/Paris:20221214T190000
DTEND;TZID=Europe/Paris:20221214T190000
DTSTAMP:20260423T034252
CREATED:20220728T195431Z
LAST-MODIFIED:20221211T212830Z
UID:3749-1671044400-1671044400@elo2000.dk
SUMMARY:Opsamling i Klubturneringen
DESCRIPTION:
URL:https://elo2000.dk/event/4-runde-i-klubturneringen-2/
END:VEVENT
BEGIN:VEVENT
DTSTART;TZID=Europe/Paris:20221221T190000
DTEND;TZID=Europe/Paris:20221221T190000
DTSTAMP:20260423T034252
CREATED:20220728T195432Z
LAST-MODIFIED:20220730T071509Z
UID:3750-1671649200-1671649200@elo2000.dk
SUMMARY:Juleafslutning
DESCRIPTION:
URL:https://elo2000.dk/event/juleafslutning-2/
END:VEVENT
BEGIN:VEVENT
DTSTART;TZID=Europe/Paris:20221228T190000
DTEND;TZID=Europe/Paris:20221228T190000
DTSTAMP:20260423T034252
CREATED:20220728T195432Z
LAST-MODIFIED:20220730T071509Z
UID:3751-1672254000-1672254000@elo2000.dk
SUMMARY:Juleferie
DESCRIPTION:
URL:https://elo2000.dk/event/juleferie-4/
END:VEVENT
END:VCALENDAR