BEGIN:VCALENDAR
VERSION:2.0
PRODID:-//Caïssa Gladsaxe 2000 - ECPv6.2.5//NONSGML v1.0//EN
CALSCALE:GREGORIAN
METHOD:PUBLISH
X-WR-CALNAME:Caïssa Gladsaxe 2000
X-ORIGINAL-URL:https://elo2000.dk
X-WR-CALDESC:Begivenheder for Caïssa Gladsaxe 2000
REFRESH-INTERVAL;VALUE=DURATION:PT1H
X-Robots-Tag:noindex
X-PUBLISHED-TTL:PT1H
BEGIN:VTIMEZONE
TZID:Europe/Paris
BEGIN:DAYLIGHT
TZOFFSETFROM:+0100
TZOFFSETTO:+0200
TZNAME:CEST
DTSTART:20220327T010000
END:DAYLIGHT
BEGIN:STANDARD
TZOFFSETFROM:+0200
TZOFFSETTO:+0100
TZNAME:CET
DTSTART:20221030T010000
END:STANDARD
END:VTIMEZONE
BEGIN:VEVENT
DTSTART;TZID=Europe/Paris:20221102T190000
DTEND;TZID=Europe/Paris:20221102T190000
DTSTAMP:20260423T052833
CREATED:20220728T195341Z
LAST-MODIFIED:20220730T071455Z
UID:3739-1667415600-1667415600@elo2000.dk
SUMMARY:Det hvide repertoire (1. e4)
DESCRIPTION:
URL:https://elo2000.dk/event/det-hvide-repertoire-1-e4-2/
END:VEVENT
BEGIN:VEVENT
DTSTART;TZID=Europe/Paris:20221109T190000
DTEND;TZID=Europe/Paris:20221109T190000
DTSTAMP:20260423T052833
CREATED:20220728T195341Z
LAST-MODIFIED:20220730T071455Z
UID:3740-1668020400-1668020400@elo2000.dk
SUMMARY:2. Runde i Klubturneringen
DESCRIPTION:
URL:https://elo2000.dk/event/2-runde-i-klubturneringen-2/
END:VEVENT
BEGIN:VEVENT
DTSTART;TZID=Europe/Paris:20221113T120000
DTEND;TZID=Europe/Paris:20221113T120000
DTSTAMP:20260423T052833
CREATED:20220728T195341Z
LAST-MODIFIED:20220730T071455Z
UID:3741-1668340800-1668340800@elo2000.dk
SUMMARY:2. Runde i Divisionsturneringen
DESCRIPTION:
URL:https://elo2000.dk/event/2-runde-i-divisionsturneringen-2/
END:VEVENT
BEGIN:VEVENT
DTSTART;TZID=Europe/Paris:20221116T190000
DTEND;TZID=Europe/Paris:20221116T190000
DTSTAMP:20260423T052833
CREATED:20220728T195346Z
LAST-MODIFIED:20220730T071502Z
UID:3742-1668625200-1668625200@elo2000.dk
SUMMARY:Stormestertræning II
DESCRIPTION:
URL:https://elo2000.dk/event/stormestertraening-ii-2/
END:VEVENT
BEGIN:VEVENT
DTSTART;TZID=Europe/Paris:20221123T190000
DTEND;TZID=Europe/Paris:20221123T190000
DTSTAMP:20260423T052833
CREATED:20220728T195346Z
LAST-MODIFIED:20221211T212952Z
UID:3743-1669230000-1669230000@elo2000.dk
SUMMARY:3. Runde i Klubturneringen
DESCRIPTION:
URL:https://elo2000.dk/event/3-runde-i-klubturneringen-2/
END:VEVENT
BEGIN:VEVENT
DTSTART;TZID=Europe/Paris:20221130T190000
DTEND;TZID=Europe/Paris:20221130T190000
DTSTAMP:20260423T052833
CREATED:20220728T195346Z
LAST-MODIFIED:20220730T071503Z
UID:3744-1669834800-1669834800@elo2000.dk
SUMMARY:Det sorte repertoire (1…c6 & 1…e6)
DESCRIPTION:
URL:https://elo2000.dk/event/det-sorte-repertoire-1c6-1e6/
END:VEVENT
END:VCALENDAR