BEGIN:VCALENDAR
VERSION:2.0
PRODID:-//Caïssa Gladsaxe 2000 - ECPv6.2.5//NONSGML v1.0//EN
CALSCALE:GREGORIAN
METHOD:PUBLISH
X-ORIGINAL-URL:https://elo2000.dk
X-WR-CALDESC:Begivenheder for Caïssa Gladsaxe 2000
REFRESH-INTERVAL;VALUE=DURATION:PT1H
X-Robots-Tag:noindex
X-PUBLISHED-TTL:PT1H
BEGIN:VTIMEZONE
TZID:Europe/Paris
BEGIN:DAYLIGHT
TZOFFSETFROM:+0100
TZOFFSETTO:+0200
TZNAME:CEST
DTSTART:20230326T010000
END:DAYLIGHT
BEGIN:STANDARD
TZOFFSETFROM:+0200
TZOFFSETTO:+0100
TZNAME:CET
DTSTART:20231029T010000
END:STANDARD
END:VTIMEZONE
BEGIN:VEVENT
DTSTART;TZID=Europe/Paris:20230118T190000
DTEND;TZID=Europe/Paris:20230118T190000
DTSTAMP:20260423T035212
CREATED:20220728T195441Z
LAST-MODIFIED:20220730T071513Z
UID:3755-1674068400-1674068400@elo2000.dk
SUMMARY:Fisher Random Mesterskabet I
DESCRIPTION:
URL:https://elo2000.dk/event/fisher-random-mesterskabet-i-2/
END:VEVENT
END:VCALENDAR